BEGIN:VCALENDAR
VERSION:2.0
PRODID:-//Ahava Healing Collective - ECPv6.15.20//NONSGML v1.0//EN
CALSCALE:GREGORIAN
METHOD:PUBLISH
X-WR-CALNAME:Ahava Healing Collective
X-ORIGINAL-URL:https://ahavahealingcollective.com
X-WR-CALDESC:Events for Ahava Healing Collective
REFRESH-INTERVAL;VALUE=DURATION:PT1H
X-Robots-Tag:noindex
X-PUBLISHED-TTL:PT1H
BEGIN:VTIMEZONE
TZID:UTC
BEGIN:STANDARD
TZOFFSETFROM:+0000
TZOFFSETTO:+0000
TZNAME:UTC
DTSTART:20240101T000000
END:STANDARD
END:VTIMEZONE
BEGIN:VTIMEZONE
TZID:America/Los_Angeles
BEGIN:DAYLIGHT
TZOFFSETFROM:-0800
TZOFFSETTO:-0700
TZNAME:PDT
DTSTART:20230312T100000
END:DAYLIGHT
BEGIN:STANDARD
TZOFFSETFROM:-0700
TZOFFSETTO:-0800
TZNAME:PST
DTSTART:20231105T090000
END:STANDARD
BEGIN:DAYLIGHT
TZOFFSETFROM:-0800
TZOFFSETTO:-0700
TZNAME:PDT
DTSTART:20240310T100000
END:DAYLIGHT
BEGIN:STANDARD
TZOFFSETFROM:-0700
TZOFFSETTO:-0800
TZNAME:PST
DTSTART:20241103T090000
END:STANDARD
BEGIN:DAYLIGHT
TZOFFSETFROM:-0800
TZOFFSETTO:-0700
TZNAME:PDT
DTSTART:20250309T100000
END:DAYLIGHT
BEGIN:STANDARD
TZOFFSETFROM:-0700
TZOFFSETTO:-0800
TZNAME:PST
DTSTART:20251102T090000
END:STANDARD
END:VTIMEZONE
BEGIN:VEVENT
DTSTART;TZID=UTC:20250419T140000
DTEND;TZID=UTC:20250419T153000
DTSTAMP:20260423T152538
CREATED:20250325T182653Z
LAST-MODIFIED:20250325T194922Z
UID:2575-1745071200-1745076600@ahavahealingcollective.com
SUMMARY:Awakening the Heart Fire Sound Bath
DESCRIPTION:Come join us for a magical afternoon of sound healing at Inner Path\, Nevada City. Expand your heart and cultivate love for yourself and others through guided meditation and sound healing focused on expanding and enlivening the heart’s natural auric field. Immerse yourself in the soothing vibrations of crystal singing bowls\, Native American flutes\, and gong as you relax and let go of stress. \nThis event is the perfect opportunity to connect with your heart and ignite your inner fire. Leave feeling rejuvenated\, expanded\, and connected to your heart and true self. \nYoga matts\, cushions\, and blankets will be provided.
URL:https://ahavahealingcollective.com/event/awakening-the-heart-fire-sound-bath/
LOCATION:Inner Path Yoga\, 200 Commercial St\, Nevada City\, CA\, 95959\, United States
CATEGORIES:Sound Baths
ATTACH;FMTTYPE=image/jpeg:https://ahavahealingcollective.com/wp-content/uploads/2025/03/April-Sound-Bath-HF-Large.jpg
END:VEVENT
BEGIN:VEVENT
DTSTART;TZID=UTC:20250315T140000
DTEND;TZID=UTC:20250419T153000
DTSTAMP:20260423T152538
CREATED:20250225T185020Z
LAST-MODIFIED:20250225T185144Z
UID:2525-1742047200-1745076600@ahavahealingcollective.com
SUMMARY:Sound Bath for Inner Peace & Healing
DESCRIPTION:Find inner peace and healing through guided energy practices\, acupressure\, and sound healing. Take a journey through sounds with Native American flutes\, gong\, singing bowls\, drums\, and more. Cultivate your innate abilities to direct energy inward for rejuvenation and healing. \nYoga matts\, cushions\, and blankets will be provided.
URL:https://ahavahealingcollective.com/event/sound-bath-for-inner-peace-healing/
LOCATION:Inner Path Yoga\, 200 Commercial St\, Nevada City\, CA\, 95959\, United States
CATEGORIES:Sound Baths
ATTACH;FMTTYPE=image/jpeg:https://ahavahealingcollective.com/wp-content/uploads/2025/02/March-Inner-Peace-Sound-Bath.jpg.jpg
END:VEVENT
BEGIN:VEVENT
DTSTART;TZID=UTC:20250208T170000
DTEND;TZID=UTC:20250208T183000
DTSTAMP:20260423T152538
CREATED:20250116T143440Z
LAST-MODIFIED:20250116T143621Z
UID:2263-1739034000-1739039400@ahavahealingcollective.com
SUMMARY:Heart Opening Cacao Ceremony and Sound Journey
DESCRIPTION:Join us in community as we gather together and share sacred cacao in order to open our hearts\, connect with each other\, and dive deep into the essence of who we are. Relax into a unique meditative experience as we take you on a journey through the many layers of sound. \nPlease RSVP so we know how much cacao to prepare.\n \n\n* If you are on antidepressants\, SSRIs or other medication\, have a heart condition or are pregnant: Be aware that the theobromine in cacao is a vasodilator: it increases the heart rate and lowers blood pressure. \n\n\nCacao\, yoga matts\, cushions\, and blankets will be provided. Come well hydrated and with an open heart.
URL:https://ahavahealingcollective.com/event/heart-opening-cacao-ceremony-and-sound-journey/
LOCATION:Inner Path Yoga\, 200 Commercial St\, Nevada City\, CA\, 95959\, United States
ATTACH;FMTTYPE=image/jpeg:https://ahavahealingcollective.com/wp-content/uploads/2025/01/Heart-Opening-Cacao-Ceremony.jpg.jpg
END:VEVENT
BEGIN:VEVENT
DTSTART;TZID=America/Los_Angeles:20241207T140000
DTEND;TZID=America/Los_Angeles:20241207T153000
DTSTAMP:20260423T152538
CREATED:20241207T003509Z
LAST-MODIFIED:20241119T173921Z
UID:2093-1733580000-1733585400@ahavahealingcollective.com
SUMMARY:Qi Gong Sound Bath
DESCRIPTION:Cultivate inner peace and resilience this holiday season with Qi Gong and Sound Healing. We will do a gentle breath and movement practice to ground and center our energies\, then relax into the sound healing journey with singing bowls\, gong\, Native American flutes\, drums\, chimes\, and other vibrational instruments. This is a great opportunity for you to support yourself by connecting to your body\, nourishing your spirit\, and clearing and aligning your energy. \n \nYoga mats\, blankets\, and cushions will be provided. \nPayment options: Cash\, Venmo\, Zelle\, PayPal\, Card. (Cash is preferred)
URL:https://ahavahealingcollective.com/event/qi-gong-sound-bath/
LOCATION:Inner Path Yoga\, 200 Commercial St\, Nevada City\, CA\, 95959\, United States
CATEGORIES:Sound Baths
ATTACH;FMTTYPE=image/jpeg:https://ahavahealingcollective.com/wp-content/uploads/2024/12/Harmonize-Align-Sound-Bath-Flyer.jpg.jpg
ORGANIZER;CN="Ahava Healing Collective":MAILTO:ahavahealingcollective@gmail.com
END:VEVENT
END:VCALENDAR